Package: CNORfeeder Version: 1.40.0 Command: /Library/Frameworks/R.framework/Resources/bin/R CMD build --keep-empty-dirs --no-resave-data CNORfeeder StartedAt: 2023-10-15 23:48:50 -0400 (Sun, 15 Oct 2023) EndedAt: 2023-10-15 23:49:10 -0400 (Sun, 15 Oct 2023) EllapsedTime: 19.6 seconds RetCode: 0 Status: OK PackageFile: CNORfeeder_1.40.0.tar.gz PackageFileSize: 3.434 MiB