Package: CNORfeeder Version: 1.40.0 Command: /Library/Frameworks/R.framework/Resources/bin/R CMD check --install=check:CNORfeeder.install-out.txt --library=/Library/Frameworks/R.framework/Resources/library --no-vignettes --timings CNORfeeder_1.40.0.tar.gz StartedAt: 2023-10-17 10:38:13 -0400 (Tue, 17 Oct 2023) EndedAt: 2023-10-17 10:40:18 -0400 (Tue, 17 Oct 2023) EllapsedTime: 124.8 seconds RetCode: 0 Status: WARNINGS CheckDir: CNORfeeder.Rcheck Warnings: 1