Package: CelliD Version: 1.8.1 Command: /Library/Frameworks/R.framework/Resources/bin/R CMD check --install=check:CelliD.install-out.txt --library=/Library/Frameworks/R.framework/Resources/library --no-vignettes --timings CelliD_1.8.1.tar.gz StartedAt: 2023-10-17 08:06:37 -0400 (Tue, 17 Oct 2023) EndedAt: 2023-10-17 08:15:04 -0400 (Tue, 17 Oct 2023) EllapsedTime: 507.1 seconds RetCode: 0 Status: WARNINGS CheckDir: CelliD.Rcheck Warnings: 2