Package: CiteFuse Version: 1.12.0 Command: /Library/Frameworks/R.framework/Resources/bin/R CMD INSTALL CiteFuse StartedAt: 2023-10-15 19:12:25 -0400 (Sun, 15 Oct 2023) EndedAt: 2023-10-15 19:13:56 -0400 (Sun, 15 Oct 2023) EllapsedTime: 90.6 seconds RetCode: 0 Status: OK