git_url: https://git.bioconductor.org/packages/CluMSID git_branch: RELEASE_3_17 git_last_commit: e71998f git_last_commit_date: 2023-04-25 11:06:55 -0400 (Tue, 25 Apr 2023) Package: CluMSID Version: 1.16.0 Maintainer: Tobias Depke MaintainerEmail: depke at mailbox.org