Package: CluMSID Version: 1.16.0 Command: rm -rf CluMSID.buildbin-libdir && mkdir CluMSID.buildbin-libdir && /Users/biocbuild/BBS/utils/build-universal.sh CluMSID_1.16.0.tar.gz /Library/Frameworks/R.framework/Resources/bin/R CluMSID.buildbin-libdir StartedAt: 2023-10-19 12:10:17 -0400 (Thu, 19 Oct 2023) EndedAt: 2023-10-19 12:11:14 -0400 (Thu, 19 Oct 2023) EllapsedTime: 56.9 seconds RetCode: 0 Status: OK PackageFile: CluMSID_1.16.0.tgz PackageFileSize: 4.591 MiB