Package: CluMSID Version: 1.16.0 Command: /Library/Frameworks/R.framework/Resources/bin/R CMD build --keep-empty-dirs --no-resave-data CluMSID StartedAt: 2023-10-15 23:39:59 -0400 (Sun, 15 Oct 2023) EndedAt: 2023-10-15 23:47:56 -0400 (Sun, 15 Oct 2023) EllapsedTime: 476.1 seconds RetCode: 0 Status: OK PackageFile: CluMSID_1.16.0.tar.gz PackageFileSize: 4.14 MiB