Package: CluMSID Version: 1.16.0 Command: /Library/Frameworks/R.framework/Resources/bin/R CMD check --install=check:CluMSID.install-out.txt --library=/Library/Frameworks/R.framework/Resources/library --no-vignettes --timings CluMSID_1.16.0.tar.gz StartedAt: 2023-10-17 10:11:18 -0400 (Tue, 17 Oct 2023) EndedAt: 2023-10-17 10:17:02 -0400 (Tue, 17 Oct 2023) EllapsedTime: 343.8 seconds RetCode: 0 Status: WARNINGS CheckDir: CluMSID.Rcheck Warnings: 1