Package: CluMSID Version: 1.16.0 Command: /Library/Frameworks/R.framework/Resources/bin/R CMD INSTALL CluMSID StartedAt: 2023-10-15 17:44:18 -0400 (Sun, 15 Oct 2023) EndedAt: 2023-10-15 17:44:56 -0400 (Sun, 15 Oct 2023) EllapsedTime: 37.5 seconds RetCode: 0 Status: OK