Package: DEScan2 Version: 1.20.1 Command: rm -rf DEScan2.buildbin-libdir && mkdir DEScan2.buildbin-libdir && /Users/biocbuild/BBS/utils/build-universal.sh DEScan2_1.20.1.tar.gz /Library/Frameworks/R.framework/Resources/bin/R DEScan2.buildbin-libdir StartedAt: 2023-10-19 12:44:52 -0400 (Thu, 19 Oct 2023) EndedAt: 2023-10-19 12:47:17 -0400 (Thu, 19 Oct 2023) EllapsedTime: 144.9 seconds RetCode: 0 Status: OK PackageFile: DEScan2_1.20.1.tgz PackageFileSize: 2.589 MiB