git_url: https://git.bioconductor.org/packages/DMRScan git_branch: RELEASE_3_17 git_last_commit: 81371c9 git_last_commit_date: 2023-04-25 10:51:59 -0400 (Tue, 25 Apr 2023) Package: DMRScan Version: 1.22.0 Maintainer: Christian M Page MaintainerEmail: page.ntnu at gmail.com