Package: DOSE Version: 3.26.2 Command: /Library/Frameworks/R.framework/Resources/bin/R CMD INSTALL DOSE StartedAt: 2023-10-15 18:13:47 -0400 (Sun, 15 Oct 2023) EndedAt: 2023-10-15 18:14:33 -0400 (Sun, 15 Oct 2023) EllapsedTime: 46.7 seconds RetCode: 0 Status: OK