Package: DelayedMatrixStats Version: 1.22.6 Command: /Library/Frameworks/R.framework/Resources/bin/R CMD build --keep-empty-dirs --no-resave-data DelayedMatrixStats StartedAt: 2023-10-16 01:20:38 -0400 (Mon, 16 Oct 2023) EndedAt: 2023-10-16 01:25:08 -0400 (Mon, 16 Oct 2023) EllapsedTime: 270.1 seconds RetCode: 0 Status: OK PackageFile: DelayedMatrixStats_1.22.6.tar.gz PackageFileSize: 271.2 KiB