Package: DelayedMatrixStats Version: 1.22.6 Command: /Library/Frameworks/R.framework/Resources/bin/R CMD check --install=check:DelayedMatrixStats.install-out.txt --library=/Library/Frameworks/R.framework/Resources/library --no-vignettes --timings DelayedMatrixStats_1.22.6.tar.gz StartedAt: 2023-10-17 14:49:56 -0400 (Tue, 17 Oct 2023) EndedAt: 2023-10-17 14:58:17 -0400 (Tue, 17 Oct 2023) EllapsedTime: 501.4 seconds RetCode: 0 Status: WARNINGS CheckDir: DelayedMatrixStats.Rcheck Warnings: 1