Package: EDIRquery Version: 1.0.0 Command: /Library/Frameworks/R.framework/Resources/bin/R CMD check --install=check:EDIRquery.install-out.txt --library=/Library/Frameworks/R.framework/Resources/library --no-vignettes --timings EDIRquery_1.0.0.tar.gz StartedAt: 2023-10-17 17:20:21 -0400 (Tue, 17 Oct 2023) EndedAt: 2023-10-17 17:24:51 -0400 (Tue, 17 Oct 2023) EllapsedTime: 270.3 seconds RetCode: 0 Status: OK CheckDir: EDIRquery.Rcheck Warnings: 0