Package: EventPointer Version: 3.8.0 Command: rm -rf EventPointer.buildbin-libdir && mkdir EventPointer.buildbin-libdir && /Users/biocbuild/BBS/utils/build-universal.sh EventPointer_3.8.0.tar.gz /Library/Frameworks/R.framework/Resources/bin/R EventPointer.buildbin-libdir StartedAt: 2023-10-19 13:13:26 -0400 (Thu, 19 Oct 2023) EndedAt: 2023-10-19 13:15:52 -0400 (Thu, 19 Oct 2023) EllapsedTime: 146.0 seconds RetCode: 0 Status: OK PackageFile: EventPointer_3.8.0.tgz PackageFileSize: 1.312 MiB