Package: FastqCleaner Version: 1.18.0 Command: /Library/Frameworks/R.framework/Resources/bin/R CMD INSTALL FastqCleaner StartedAt: 2023-10-15 17:52:32 -0400 (Sun, 15 Oct 2023) EndedAt: 2023-10-15 17:53:57 -0400 (Sun, 15 Oct 2023) EllapsedTime: 85.1 seconds RetCode: 0 Status: OK