Package: GBScleanR Version: 1.4.4 Command: /Library/Frameworks/R.framework/Resources/bin/R CMD build --keep-empty-dirs --no-resave-data GBScleanR StartedAt: 2023-10-16 03:49:02 -0400 (Mon, 16 Oct 2023) EndedAt: 2023-10-16 03:51:27 -0400 (Mon, 16 Oct 2023) EllapsedTime: 144.7 seconds RetCode: 0 Status: OK PackageFile: GBScleanR_1.4.4.tar.gz PackageFileSize: 1.733 MiB