Package: GBScleanR Version: 1.4.4 Command: /Library/Frameworks/R.framework/Resources/bin/R CMD INSTALL GBScleanR StartedAt: 2023-10-15 15:45:01 -0400 (Sun, 15 Oct 2023) EndedAt: 2023-10-15 15:46:23 -0400 (Sun, 15 Oct 2023) EllapsedTime: 82.6 seconds RetCode: 0 Status: OK