Package: GISPA Version: 1.24.0 Command: rm -rf GISPA.buildbin-libdir && mkdir GISPA.buildbin-libdir && /Users/biocbuild/BBS/utils/build-universal.sh GISPA_1.24.0.tar.gz /Library/Frameworks/R.framework/Resources/bin/R GISPA.buildbin-libdir StartedAt: 2023-10-19 13:45:48 -0400 (Thu, 19 Oct 2023) EndedAt: 2023-10-19 13:47:00 -0400 (Thu, 19 Oct 2023) EllapsedTime: 71.6 seconds RetCode: 0 Status: OK PackageFile: GISPA_1.24.0.tgz PackageFileSize: 236.4 KiB