Package: GSRI Version: 2.48.0 Command: rm -rf GSRI.buildbin-libdir && mkdir GSRI.buildbin-libdir && /Users/biocbuild/BBS/utils/build-universal.sh GSRI_2.48.0.tar.gz /Library/Frameworks/R.framework/Resources/bin/R GSRI.buildbin-libdir StartedAt: 2023-10-19 13:54:04 -0400 (Thu, 19 Oct 2023) EndedAt: 2023-10-19 13:55:08 -0400 (Thu, 19 Oct 2023) EllapsedTime: 63.6 seconds RetCode: 0 Status: OK PackageFile: GSRI_2.48.0.tgz PackageFileSize: 674.5 KiB