Package: GSRI Version: 2.48.0 Command: /Library/Frameworks/R.framework/Resources/bin/R CMD build --keep-empty-dirs --no-resave-data GSRI StartedAt: 2023-10-16 05:29:40 -0400 (Mon, 16 Oct 2023) EndedAt: 2023-10-16 05:31:17 -0400 (Mon, 16 Oct 2023) EllapsedTime: 96.8 seconds RetCode: 0 Status: OK PackageFile: GSRI_2.48.0.tar.gz PackageFileSize: 339.5 KiB