git_url: https://git.bioconductor.org/packages/GWAS.BAYES git_branch: RELEASE_3_17 git_last_commit: 090ccc5 git_last_commit_date: 2023-04-25 11:24:45 -0400 (Tue, 25 Apr 2023) Package: GWAS.BAYES Version: 1.10.0 Maintainer: Jacob Williams MaintainerEmail: jwilliams at vt.edu