Package: GWAS.BAYES Version: 1.10.0 Command: /Library/Frameworks/R.framework/Resources/bin/R CMD check --install=check:GWAS.BAYES.install-out.txt --library=/Library/Frameworks/R.framework/Resources/library --no-vignettes --timings GWAS.BAYES_1.10.0.tar.gz StartedAt: 2023-10-18 00:00:07 -0400 (Wed, 18 Oct 2023) EndedAt: 2023-10-18 00:01:25 -0400 (Wed, 18 Oct 2023) EllapsedTime: 78.1 seconds RetCode: 0 Status: OK CheckDir: GWAS.BAYES.Rcheck Warnings: 0