git_url: https://git.bioconductor.org/packages/GeneGA git_branch: RELEASE_3_17 git_last_commit: f1f2c0d git_last_commit_date: 2023-04-25 10:18:12 -0400 (Tue, 25 Apr 2023) Package: GeneGA Version: 1.50.0 Maintainer: Zhenpeng Li MaintainerEmail: zpli21 at gmail.com