git_url: https://git.bioconductor.org/packages/GeneMeta git_branch: RELEASE_3_17 git_last_commit: 1cb0471 git_last_commit_date: 2023-04-25 09:42:08 -0400 (Tue, 25 Apr 2023) Package: GeneMeta Version: 1.72.0 Maintainer: Bioconductor Package Maintainer MaintainerEmail: maintainer at bioconductor.org