Package: Gviz Version: 1.44.2 Command: /Library/Frameworks/R.framework/Resources/bin/R CMD build --keep-empty-dirs --no-resave-data Gviz StartedAt: 2023-10-16 05:34:02 -0400 (Mon, 16 Oct 2023) EndedAt: 2023-10-16 05:40:47 -0400 (Mon, 16 Oct 2023) EllapsedTime: 405.6 seconds RetCode: 0 Status: OK PackageFile: Gviz_1.44.2.tar.gz PackageFileSize: 6.956 MiB