Package: Gviz Version: 1.44.2 Command: /Library/Frameworks/R.framework/Resources/bin/R CMD check --install=check:Gviz.install-out.txt --library=/Library/Frameworks/R.framework/Resources/library --no-vignettes --timings Gviz_1.44.2.tar.gz StartedAt: 2023-10-17 23:55:48 -0400 (Tue, 17 Oct 2023) EndedAt: 2023-10-18 00:09:29 -0400 (Wed, 18 Oct 2023) EllapsedTime: 820.2 seconds RetCode: 0 Status: OK CheckDir: Gviz.Rcheck Warnings: 0