Package: HTqPCR Version: 1.54.0 Command: /Library/Frameworks/R.framework/Resources/bin/R CMD build --keep-empty-dirs --no-resave-data HTqPCR StartedAt: 2023-10-16 06:19:24 -0400 (Mon, 16 Oct 2023) EndedAt: 2023-10-16 06:20:16 -0400 (Mon, 16 Oct 2023) EllapsedTime: 52.2 seconds RetCode: 0 Status: OK PackageFile: HTqPCR_1.54.0.tar.gz PackageFileSize: 2.581 MiB