Package: HTqPCR Version: 1.54.0 Command: /Library/Frameworks/R.framework/Resources/bin/R CMD check --install=check:HTqPCR.install-out.txt --library=/Library/Frameworks/R.framework/Resources/library --no-vignettes --timings HTqPCR_1.54.0.tar.gz StartedAt: 2023-10-18 01:04:52 -0400 (Wed, 18 Oct 2023) EndedAt: 2023-10-18 01:06:22 -0400 (Wed, 18 Oct 2023) EllapsedTime: 89.8 seconds RetCode: 0 Status: OK CheckDir: HTqPCR.Rcheck Warnings: 0