Package: HilbertVis Version: 1.58.0 Command: rm -rf HilbertVis.buildbin-libdir && mkdir HilbertVis.buildbin-libdir && /Users/biocbuild/BBS/utils/build-universal.sh HilbertVis_1.58.0.tar.gz /Library/Frameworks/R.framework/Resources/bin/R HilbertVis.buildbin-libdir StartedAt: 2023-10-19 14:01:21 -0400 (Thu, 19 Oct 2023) EndedAt: 2023-10-19 14:01:28 -0400 (Thu, 19 Oct 2023) EllapsedTime: 7.4 seconds RetCode: 0 Status: OK PackageFile: HilbertVis_1.58.0.tgz PackageFileSize: 1.116 MiB