Package: INSPEcT Version: 1.30.0 Command: /Library/Frameworks/R.framework/Resources/bin/R CMD build --keep-empty-dirs --no-resave-data INSPEcT StartedAt: 2023-10-16 06:55:13 -0400 (Mon, 16 Oct 2023) EndedAt: 2023-10-16 07:07:41 -0400 (Mon, 16 Oct 2023) EllapsedTime: 748.5 seconds RetCode: 0 Status: OK PackageFile: INSPEcT_1.30.0.tar.gz PackageFileSize: 58.42 MiB