Package: InterCellar Version: 2.6.0 Command: /Library/Frameworks/R.framework/Resources/bin/R CMD build --keep-empty-dirs --no-resave-data InterCellar StartedAt: 2023-10-16 07:02:21 -0400 (Mon, 16 Oct 2023) EndedAt: 2023-10-16 07:03:46 -0400 (Mon, 16 Oct 2023) EllapsedTime: 85.5 seconds RetCode: 0 Status: OK PackageFile: InterCellar_2.6.0.tar.gz PackageFileSize: 4.016 MiB