Package: LedPred Version: 1.34.0 Command: rm -rf LedPred.buildbin-libdir && mkdir LedPred.buildbin-libdir && /Users/biocbuild/BBS/utils/build-universal.sh LedPred_1.34.0.tar.gz /Library/Frameworks/R.framework/Resources/bin/R LedPred.buildbin-libdir StartedAt: 2023-10-19 14:23:24 -0400 (Thu, 19 Oct 2023) EndedAt: 2023-10-19 14:23:51 -0400 (Thu, 19 Oct 2023) EllapsedTime: 27.0 seconds RetCode: 0 Status: OK PackageFile: LedPred_1.34.0.tgz PackageFileSize: 1.686 MiB