Package: LedPred Version: 1.34.0 Command: /Library/Frameworks/R.framework/Resources/bin/R CMD build --keep-empty-dirs --no-resave-data LedPred StartedAt: 2023-10-16 07:44:12 -0400 (Mon, 16 Oct 2023) EndedAt: 2023-10-16 07:44:55 -0400 (Mon, 16 Oct 2023) EllapsedTime: 42.7 seconds RetCode: 0 Status: OK PackageFile: LedPred_1.34.0.tar.gz PackageFileSize: 1.463 MiB