Package: MAGAR Version: 1.8.0 Command: /Library/Frameworks/R.framework/Resources/bin/R CMD INSTALL MAGAR StartedAt: 2023-10-15 19:32:08 -0400 (Sun, 15 Oct 2023) EndedAt: 2023-10-15 19:34:12 -0400 (Sun, 15 Oct 2023) EllapsedTime: 123.2 seconds RetCode: 0 Status: OK