Package: MIMOSA Version: 1.37.0 Command: /Library/Frameworks/R.framework/Resources/bin/R CMD check --install=check:MIMOSA.install-out.txt --library=/Library/Frameworks/R.framework/Resources/library --no-vignettes --timings MIMOSA_1.37.0.tar.gz StartedAt: 2023-02-28 19:06:59 -0500 (Tue, 28 Feb 2023) EndedAt: 2023-02-28 19:09:12 -0500 (Tue, 28 Feb 2023) EllapsedTime: 132.3 seconds RetCode: 0 Status: WARNINGS CheckDir: MIMOSA.Rcheck Warnings: 1