Package: MOSim Version: 1.14.0 Command: rm -rf MOSim.buildbin-libdir && mkdir MOSim.buildbin-libdir && /Users/biocbuild/BBS/utils/build-universal.sh MOSim_1.14.0.tar.gz /Library/Frameworks/R.framework/Resources/bin/R MOSim.buildbin-libdir StartedAt: 2023-10-19 15:05:28 -0400 (Thu, 19 Oct 2023) EndedAt: 2023-10-19 15:06:04 -0400 (Thu, 19 Oct 2023) EllapsedTime: 36.3 seconds RetCode: 0 Status: OK PackageFile: MOSim_1.14.0.tgz PackageFileSize: 4.826 MiB