Package: MSnID Version: 1.34.0 Command: rm -rf MSnID.buildbin-libdir && mkdir MSnID.buildbin-libdir && /Users/biocbuild/BBS/utils/build-universal.sh MSnID_1.34.0.tar.gz /Library/Frameworks/R.framework/Resources/bin/R MSnID.buildbin-libdir StartedAt: 2023-10-19 15:12:33 -0400 (Thu, 19 Oct 2023) EndedAt: 2023-10-19 15:13:52 -0400 (Thu, 19 Oct 2023) EllapsedTime: 78.3 seconds RetCode: 0 Status: OK PackageFile: MSnID_1.34.0.tgz PackageFileSize: 3.968 MiB