Package: MSstats Version: 4.8.7 Command: /Library/Frameworks/R.framework/Resources/bin/R CMD INSTALL MSstats StartedAt: 2023-10-15 18:18:42 -0400 (Sun, 15 Oct 2023) EndedAt: 2023-10-15 18:20:03 -0400 (Sun, 15 Oct 2023) EllapsedTime: 80.3 seconds RetCode: 0 Status: OK