Package: Melissa Version: 1.16.0 Command: rm -rf Melissa.buildbin-libdir && mkdir Melissa.buildbin-libdir && /Users/biocbuild/BBS/utils/build-universal.sh Melissa_1.16.0.tar.gz /Library/Frameworks/R.framework/Resources/bin/R Melissa.buildbin-libdir StartedAt: 2023-10-19 14:40:03 -0400 (Thu, 19 Oct 2023) EndedAt: 2023-10-19 14:41:07 -0400 (Thu, 19 Oct 2023) EllapsedTime: 64.9 seconds RetCode: 0 Status: OK PackageFile: Melissa_1.16.0.tgz PackageFileSize: 4.24 MiB