Package: Melissa Version: 1.16.0 Command: /Library/Frameworks/R.framework/Resources/bin/R CMD build --keep-empty-dirs --no-resave-data Melissa StartedAt: 2023-10-16 08:40:58 -0400 (Mon, 16 Oct 2023) EndedAt: 2023-10-16 08:47:00 -0400 (Mon, 16 Oct 2023) EllapsedTime: 361.8 seconds RetCode: 0 Status: OK PackageFile: Melissa_1.16.0.tar.gz PackageFileSize: 2.778 MiB