Package: MetaboSignal Version: 1.30.3 Command: /Library/Frameworks/R.framework/Resources/bin/R CMD check --install=check:MetaboSignal.install-out.txt --library=/Library/Frameworks/R.framework/Resources/library --no-vignettes --timings MetaboSignal_1.30.3.tar.gz StartedAt: 2023-10-18 05:50:26 -0400 (Wed, 18 Oct 2023) EndedAt: 2023-10-18 06:01:52 -0400 (Wed, 18 Oct 2023) EllapsedTime: 685.8 seconds RetCode: 0 Status: OK CheckDir: MetaboSignal.Rcheck Warnings: 0