Package: MiChip Version: 1.54.0 Command: /Library/Frameworks/R.framework/Resources/bin/R CMD build --keep-empty-dirs --no-resave-data MiChip StartedAt: 2023-10-16 09:53:06 -0400 (Mon, 16 Oct 2023) EndedAt: 2023-10-16 09:53:33 -0400 (Mon, 16 Oct 2023) EllapsedTime: 26.9 seconds RetCode: 0 Status: OK PackageFile: MiChip_1.54.0.tar.gz PackageFileSize: 650.5 KiB