Package: MiChip Version: 1.54.0 Command: /Library/Frameworks/R.framework/Resources/bin/R CMD check --install=check:MiChip.install-out.txt --library=/Library/Frameworks/R.framework/Resources/library --no-vignettes --timings MiChip_1.54.0.tar.gz StartedAt: 2023-10-18 07:09:41 -0400 (Wed, 18 Oct 2023) EndedAt: 2023-10-18 07:10:35 -0400 (Wed, 18 Oct 2023) EllapsedTime: 54.5 seconds RetCode: 0 Status: OK CheckDir: MiChip.Rcheck Warnings: 0