Package: MiChip Version: 1.54.0 Command: /Library/Frameworks/R.framework/Resources/bin/R CMD INSTALL MiChip StartedAt: 2023-10-15 15:05:15 -0400 (Sun, 15 Oct 2023) EndedAt: 2023-10-15 15:05:22 -0400 (Sun, 15 Oct 2023) EllapsedTime: 6.7 seconds RetCode: 0 Status: OK