Package: Motif2Site Version: 1.4.0 Command: /Library/Frameworks/R.framework/Resources/bin/R CMD build --keep-empty-dirs --no-resave-data Motif2Site StartedAt: 2023-10-16 10:53:42 -0400 (Mon, 16 Oct 2023) EndedAt: 2023-10-16 10:59:33 -0400 (Mon, 16 Oct 2023) EllapsedTime: 351.2 seconds RetCode: 0 Status: OK PackageFile: Motif2Site_1.4.0.tar.gz PackageFileSize: 1.4 MiB