Package: MsBackendMgf Version: 1.8.0 Command: rm -rf MsBackendMgf.buildbin-libdir && mkdir MsBackendMgf.buildbin-libdir && /Users/biocbuild/BBS/utils/build-universal.sh MsBackendMgf_1.8.0.tar.gz /Library/Frameworks/R.framework/Resources/bin/R MsBackendMgf.buildbin-libdir StartedAt: 2023-10-19 15:09:42 -0400 (Thu, 19 Oct 2023) EndedAt: 2023-10-19 15:10:08 -0400 (Thu, 19 Oct 2023) EllapsedTime: 25.3 seconds RetCode: 0 Status: OK PackageFile: MsBackendMgf_1.8.0.tgz PackageFileSize: 359.4 KiB