Package: MsBackendMgf Version: 1.8.0 Command: /Library/Frameworks/R.framework/Resources/bin/R CMD build --keep-empty-dirs --no-resave-data MsBackendMgf StartedAt: 2023-10-16 11:11:01 -0400 (Mon, 16 Oct 2023) EndedAt: 2023-10-16 11:11:38 -0400 (Mon, 16 Oct 2023) EllapsedTime: 37.0 seconds RetCode: 0 Status: OK PackageFile: MsBackendMgf_1.8.0.tar.gz PackageFileSize: 325.6 KiB