Package: MsFeatures Version: 1.8.0 Command: rm -rf MsFeatures.buildbin-libdir && mkdir MsFeatures.buildbin-libdir && /Users/biocbuild/BBS/utils/build-universal.sh MsFeatures_1.8.0.tar.gz /Library/Frameworks/R.framework/Resources/bin/R MsFeatures.buildbin-libdir StartedAt: 2023-10-19 15:10:39 -0400 (Thu, 19 Oct 2023) EndedAt: 2023-10-19 15:11:32 -0400 (Thu, 19 Oct 2023) EllapsedTime: 53.3 seconds RetCode: 0 Status: OK PackageFile: MsFeatures_1.8.0.tgz PackageFileSize: 1.203 MiB